BEGIN:VCALENDAR
VERSION:2.0
PRODID:spatie/icalendar-generator
DESCRIPTION:Events from Kinney Memorial Library
X-WR-CALDESC:Events from Kinney Memorial Library
REFRESH-INTERVAL;VALUE=DURATION:PT1440M
X-PUBLISHED-TTL:PT1440M
BEGIN:VTIMEZONE
TZID:America/New_York
BEGIN:STANDARD
DTSTART:20251102T020000Z
TZOFFSETFROM:-0400
TZOFFSETTO:-0500
END:STANDARD
BEGIN:DAYLIGHT
DTSTART:20260308T020000Z
TZOFFSETFROM:-0500
TZOFFSETTO:-0400
END:DAYLIGHT
BEGIN:STANDARD
DTSTART:20261101T020000Z
TZOFFSETFROM:-0400
TZOFFSETTO:-0500
END:STANDARD
END:VTIMEZONE
BEGIN:VTIMEZONE
TZID:UTC
BEGIN:STANDARD
DTSTART:20250727T135757Z
TZOFFSETFROM:+0000
TZOFFSETTO:+0000
END:STANDARD
END:VTIMEZONE
BEGIN:VEVENT
UID:387-44
DTSTAMP:20260423T135757Z
SUMMARY:Book Planter Box Workshop
LOCATION:
ORGANIZER;CN=admin:MAILTO:hr.ill@4cls.org
DTSTART;TZID=America/New_York:20260502T140000
DTEND;TZID=America/New_York:20260502T150000
X-ALT-DESC;FMTTYPE=TEXT/HTML:We'll be making planter boxes out of old\, har
 dcover books!
CATEGORIES:General
URL;VALUE=URI:https://libraries.4cls.org/hartwick/mc-events/book-planter-bo
 x-workshop/
METHOD:PUBLISH
END:VEVENT
END:VCALENDAR