BEGIN:VCALENDAR
VERSION:2.0
PRODID:spatie/icalendar-generator
DESCRIPTION:Events from Kinney Memorial Library
X-WR-CALDESC:Events from Kinney Memorial Library
REFRESH-INTERVAL;VALUE=DURATION:PT1440M
X-PUBLISHED-TTL:PT1440M
BEGIN:VTIMEZONE
TZID:America/New_York
BEGIN:STANDARD
DTSTART:20251102T020000Z
TZOFFSETFROM:-0400
TZOFFSETTO:-0500
END:STANDARD
BEGIN:DAYLIGHT
DTSTART:20260308T020000Z
TZOFFSETFROM:-0500
TZOFFSETTO:-0400
END:DAYLIGHT
BEGIN:STANDARD
DTSTART:20261101T020000Z
TZOFFSETFROM:-0400
TZOFFSETTO:-0500
END:STANDARD
END:VTIMEZONE
BEGIN:VTIMEZONE
TZID:UTC
BEGIN:STANDARD
DTSTART:20250727T152911Z
TZOFFSETFROM:+0000
TZOFFSETTO:+0000
END:STANDARD
END:VTIMEZONE
BEGIN:VEVENT
UID:457-61
DTSTAMP:20260423T152911Z
SUMMARY:Norway Meets America with Author Author Margrethe Hoff
LOCATION:
ORGANIZER;CN=admin:MAILTO:hr.ill@4cls.org
DTSTART;TZID=America/New_York:20260620T140000
DTEND;TZID=America/New_York:20260620T150000
X-ALT-DESC;FMTTYPE=TEXT/HTML:Meet the author\, an exposure scientist\, who 
 lived and worked in Europe for 27 years\, before returning to her roots in
  upstate NY. See how the best of two cultures is blended into a family aft
 er Norway meets America.
CATEGORIES:General
URL;VALUE=URI:https://libraries.4cls.org/hartwick/mc-events/norway-meets-am
 erica-with-author-author-margrethe-hoff/
METHOD:PUBLISH
END:VEVENT
END:VCALENDAR