BEGIN:VCALENDAR
VERSION:2.0
PRODID:spatie/icalendar-generator
DESCRIPTION:Events from Kinney Memorial Library
X-WR-CALDESC:Events from Kinney Memorial Library
REFRESH-INTERVAL;VALUE=DURATION:PT1440M
X-PUBLISHED-TTL:PT1440M
BEGIN:VTIMEZONE
TZID:America/New_York
BEGIN:DAYLIGHT
DTSTART:20250309T020000Z
TZOFFSETFROM:-0500
TZOFFSETTO:-0400
END:DAYLIGHT
BEGIN:STANDARD
DTSTART:20251102T020000Z
TZOFFSETFROM:-0400
TZOFFSETTO:-0500
END:STANDARD
BEGIN:DAYLIGHT
DTSTART:20260308T020000Z
TZOFFSETFROM:-0500
TZOFFSETTO:-0400
END:DAYLIGHT
END:VTIMEZONE
BEGIN:VTIMEZONE
TZID:UTC
BEGIN:STANDARD
DTSTART:20250728T192932Z
TZOFFSETFROM:+0000
TZOFFSETTO:+0000
END:STANDARD
END:VTIMEZONE
BEGIN:VEVENT
UID:268-19
DTSTAMP:20260424T192932Z
SUMMARY:Book Sale
LOCATION:
ORGANIZER;CN=admin:MAILTO:hr.ill@4cls.org
DTSTART;TZID=America/New_York:20251019T090000
DTEND;TZID=America/New_York:20251019T120000
X-ALT-DESC;FMTTYPE=TEXT/HTML:Our annual book sale will be at The Meeting Ho
 use (Old Methodist Church) on Co Hwy 11\, Hartwick.
CATEGORIES:General
URL;VALUE=URI:https://libraries.4cls.org/hartwick/mc-events/book-sale-3/
METHOD:PUBLISH
END:VEVENT
END:VCALENDAR